BEGIN:VCALENDAR
VERSION:2.0
PRODID:icalendar-ruby
CALSCALE:GREGORIAN
METHOD:PUBLISH
BEGIN:VEVENT
DTSTAMP:20260420T093851Z
UID:33-721978@calvaryfoursquare.church
DTSTART:20260506T233000Z
DTEND:20260507T003000Z
CLASS:PUBLIC
CREATED:20260415T090556
DESCRIPTION:
LAST-MODIFIED:20260415T090556
LOCATION:2020 Palean St Keokuk\, Iowa
SUMMARY:Bible Study
URL;VALUE=URI:https://www.calvaryfoursquare.church/events/bible-study--33/2
 026-05-06
ATTACH;FILENAME=Untitled-design-%281%29.jpg;FMTTYPE=image/jpeg:https://dq5p
 wpg1q8ru0.cloudfront.net/2023/02/19/16/53/26/d7874c48-1b3f-45a0-995b-33a91
 702276a/Untitled-design-%25281%2529.jpg
END:VEVENT
END:VCALENDAR
