BEGIN:VCALENDAR
VERSION:2.0
PRODID:icalendar-ruby
CALSCALE:GREGORIAN
METHOD:PUBLISH
BEGIN:VEVENT
DTSTAMP:20260420T081323Z
UID:74-721911@calvaryfoursquare.church
DTSTART:20260425T173000Z
DTEND:20260425T183000Z
CLASS:PUBLIC
CREATED:20260415T090010
DESCRIPTION:
LAST-MODIFIED:20260415T090010
LOCATION:2020 Palean St
SUMMARY:Tapestry
URL;VALUE=URI:https://www.calvaryfoursquare.church/events/tapestry/2026-04-
 25
ATTACH;FILENAME=Pink-%26-Purple-Floral-Mother%27s-Day-Lunch-Flyer-%28Presen
 tation%29.jpg;FMTTYPE=image/jpeg:https://dq5pwpg1q8ru0.cloudfront.net/2025
 /12/27/20/16/19/12dbb67e-3b3f-462d-afc6-84fce483a6c9/Pink-%2526-Purple-Flo
 ral-Mother%2527s-Day-Lunch-Flyer-%2528Presentation%2529.jpg
END:VEVENT
END:VCALENDAR
