BEGIN:VCALENDAR
VERSION:2.0
PRODID:icalendar-ruby
CALSCALE:GREGORIAN
METHOD:PUBLISH
BEGIN:VEVENT
DTSTAMP:20260422T195824Z
UID:84-721979@calvaryfoursquare.church
DTSTART:20260713T110000Z
DTEND:20260717T230000Z
CLASS:PUBLIC
CREATED:20260415T090657
DESCRIPTION:More details coming soon...
LAST-MODIFIED:20260415T090657
LOCATION:Camp Hickory
SUMMARY:Youth Summer Camp
URL;VALUE=URI:https://www.calvaryfoursquare.church/events/youth-summer-camp
 /2026-07-13
END:VEVENT
END:VCALENDAR
